BEGIN:VCALENDAR
VERSION:2.0
CALSCALE:GREGORIAN
PRODID:sectra/ics
METHOD:PUBLISH
X-PUBLISHED-TTL:PT30M
BEGIN:VEVENT
UID:sectra/2/72006
SUMMARY:Sectra's year-end report 2023/2024
DTSTAMP:20260421T041106Z
DTSTART:20240605T061500Z
DTEND:20240605T064500Z


STATUS:CONFIRMED
END:VEVENT
END:VCALENDAR