BEGIN:VCALENDAR
VERSION:2.0
CALSCALE:GREGORIAN
PRODID:sectra/ics
METHOD:PUBLISH
X-PUBLISHED-TTL:PT30M
BEGIN:VEVENT
UID:sectra/2/1448
SUMMARY:Year-end report 2019/2020 – including in-depth presentation of subscription model
DTSTAMP:20260421T114856Z
DTSTART:20200603T061500Z
DTEND:20200603T064500Z


STATUS:CONFIRMED
END:VEVENT
END:VCALENDAR